View In:
ArcGIS JavaScript
ArcGIS.com Map
Google Earth
ArcMap
View Footprint In:
ArcGIS.com Map
Service Description:
Name: output_bimtek/Hloss
Description: output_bimtek/Hloss
Single Fused Map Cache: false
Extent:
XMin: 1.1699661450461943E7
YMin: -777789.3442069823
XMax: 1.1819931450461943E7
YMax: -689319.3442069823
Spatial Reference: 3395
(3395)
Initial Extent:
XMin: 1.1699661450461943E7
YMin: -777789.3442069823
XMax: 1.1819931450461943E7
YMax: -689319.3442069823
Spatial Reference: 3395
(3395)
Full Extent:
XMin: 1.1699661450461943E7
YMin: -777789.3442069823
XMax: 1.1819931450461943E7
YMax: -689319.3442069823
Spatial Reference: 3395
(3395)
Pixel Size X: 30.0
Pixel Size Y: 30.0
Band Count: 1
Pixel Type: S64
RasterFunction Infos: N/A
Mensuration Capabilities: Basic
Has Histograms: true
Has Colormap: false
Has Multi Dimensions : false
Rendering Rule:
Min Scale: 0
Max Scale: 0
Copyright Text:
Service Data Type: esriImageServiceDataTypeGeneric
Min Values: 2.727666666666667E-4
Max Values: 0.1722501195526123
Mean Values: 0.029724416473862623
Standard Deviation Values: 0.022948613768695662
Object ID Field:
Fields:
None
Default Mosaic Method: Center
Allowed Mosaic Methods:
SortField:
SortValue: null
Mosaic Operator: First
Default Compression Quality: 75
Default Resampling Method: Bilinear
Max Record Count: null
Max Image Height: 4100
Max Image Width: 15000
Max Download Image Count: null
Max Mosaic Image Count: null
Allow Raster Function: true
Allow Compute TiePoints: false
Supports Statistics: false
Supports Advanced Queries: false
Use StandardizedQueries: true
Raster Type Infos:
Name: Raster Dataset
Description: Supports all ArcGIS Raster Datasets
Help:
Has Raster Attribute Table: false
Edit Fields Info: null
Ownership Based AccessControl For Rasters: null
Child Resources:
Info
Histograms
Key Properties
Legend
MultiDimensionalInfo
rasterFunctionInfos
Supported Operations:
Export Image
Identify
Measure
Compute Histograms
Get Samples
Compute Class Statistics