View In:
ArcGIS JavaScript
ArcGIS.com Map
Google Earth
ArcMap
View Footprint In:
ArcGIS.com Map
Service Description:
Name: inaRISK/INDEKS_RISIKO_BANJIR_BANDANG
Description: inaRISK/INDEKS_RISIKO_BANJIR_BANDANG
Single Fused Map Cache: false
Extent:
XMin: 1.06032942522E7
YMin: -1180492.764800001
XMax: 1.56960942522E7
YMax: 620507.2351999991
Spatial Reference: 3395
(3395)
Initial Extent:
XMin: 1.06032942522E7
YMin: -1180492.764800001
XMax: 1.56960942522E7
YMax: 620507.2351999991
Spatial Reference: 3395
(3395)
Full Extent:
XMin: 1.06032942522E7
YMin: -1180492.764800001
XMax: 1.56960942522E7
YMax: 620507.2351999991
Spatial Reference: 3395
(3395)
Pixel Size X: 100.0
Pixel Size Y: 100.0
Band Count: 1
Pixel Type: S64
RasterFunction Infos: N/A
Mensuration Capabilities: Basic
Has Histograms: true
Has Colormap: false
Has Multi Dimensions : false
Rendering Rule:
Min Scale: 0
Max Scale: 0
Copyright Text:
Service Data Type: esriImageServiceDataTypeGeneric
Min Values: 0
Max Values: 0.934694101308997
Mean Values: 0.5993603028906508
Standard Deviation Values: 0.1422588687289611
Object ID Field:
Fields:
None
Default Mosaic Method: Center
Allowed Mosaic Methods:
SortField:
SortValue: null
Mosaic Operator: First
Default Compression Quality: 75
Default Resampling Method: Bilinear
Max Record Count: null
Max Image Height: 4100
Max Image Width: 15000
Max Download Image Count: null
Max Mosaic Image Count: null
Allow Raster Function: true
Allow Compute TiePoints: false
Supports Statistics: false
Supports Advanced Queries: false
Use StandardizedQueries: true
Raster Type Infos:
Name: Raster Dataset
Description: Supports all ArcGIS Raster Datasets
Help:
Has Raster Attribute Table: false
Edit Fields Info: null
Ownership Based AccessControl For Rasters: null
Child Resources:
Info
Histograms
Key Properties
Legend
MultiDimensionalInfo
rasterFunctionInfos
Supported Operations:
Export Image
Identify
Measure
Compute Histograms
Get Samples
Compute Class Statistics