View In:
ArcGIS JavaScript
ArcGIS.com Map
Google Earth
ArcMap
View Footprint In:
ArcGIS.com Map
Service Description:
Name: basemap/Data_Demnas_Nusa_Tenggara
Description: basemap/Data_Demnas_Nusa_Tenggara
Single Fused Map Cache: false
Extent:
XMin: 115.75
YMin: -11.014326432643264
XMax: 125.25
YMax: -7.75
Spatial Reference: 4326
(4326)
Initial Extent:
XMin: 115.75
YMin: -11.014326432643264
XMax: 125.25
YMax: -7.75
Spatial Reference: 4326
(4326)
Full Extent:
XMin: 115.75
YMin: -11.014326432643264
XMax: 125.25
YMax: -7.75
Spatial Reference: 4326
(4326)
Pixel Size X: 7.500750075007501E-5
Pixel Size Y: 7.5007500750075E-5
Band Count: 1
Pixel Type: F32
RasterFunction Infos: N/A
Mensuration Capabilities: Basic
Has Histograms: false
Has Colormap: false
Has Multi Dimensions : false
Rendering Rule:
Min Scale: 0
Max Scale: 0
Copyright Text:
Service Data Type: esriImageServiceDataTypeGeneric
Min Values: N/A
Max Values: N/A
Mean Values: N/A
Standard Deviation Values: N/A
Object ID Field:
Fields:
None
Default Mosaic Method: Center
Allowed Mosaic Methods:
SortField:
SortValue: null
Mosaic Operator: First
Default Compression Quality: 75
Default Resampling Method: Bilinear
Max Record Count: null
Max Image Height: 4100
Max Image Width: 15000
Max Download Image Count: null
Max Mosaic Image Count: null
Allow Raster Function: true
Allow Compute TiePoints: false
Supports Statistics: false
Supports Advanced Queries: false
Use StandardizedQueries: true
Raster Type Infos:
Name: Raster Dataset
Description: Supports all ArcGIS Raster Datasets
Help:
Has Raster Attribute Table: false
Edit Fields Info: null
Ownership Based AccessControl For Rasters: null
Child Resources:
Info
Key Properties
Legend
MultiDimensionalInfo
rasterFunctionInfos
Supported Operations:
Export Image
Identify
Measure
Compute Histograms
Get Samples
Compute Class Statistics