View In:
ArcGIS JavaScript
ArcGIS.com Map
Google Earth
ArcMap
View Footprint In:
ArcGIS.com Map
Service Description:
Name: RIPB_2015_2045/PENDUDUK_JIWA_BANJIR_2030
Description: RIPB_2015_2045/PENDUDUK_JIWA_BANJIR_2030
Single Fused Map Cache: false
Extent:
XMin: 1.0576467977124918E7
YMin: -1224817.0533000007
XMax: 1.5698267977124918E7
YMax: 673282.9466999993
Spatial Reference: 3395
(3395)
Initial Extent:
XMin: 1.0576467977124918E7
YMin: -1224817.0533000007
XMax: 1.5698267977124918E7
YMax: 673282.9466999993
Spatial Reference: 3395
(3395)
Full Extent:
XMin: 1.0576467977124918E7
YMin: -1224817.0533000007
XMax: 1.5698267977124918E7
YMax: 673282.9466999993
Spatial Reference: 3395
(3395)
Pixel Size X: 100.0
Pixel Size Y: 100.0
Band Count: 1
Pixel Type: S64
RasterFunction Infos: N/A
Mensuration Capabilities: Basic
Has Histograms: true
Has Colormap: false
Has Multi Dimensions : false
Rendering Rule:
Min Scale: 0
Max Scale: 0
Copyright Text:
Service Data Type: esriImageServiceDataTypeGeneric
Min Values: 0
Max Values: 3636.420515404584
Mean Values: 2.926199039052088
Standard Deviation Values: 16.073615195883573
Object ID Field:
Fields:
None
Default Mosaic Method: Center
Allowed Mosaic Methods:
SortField:
SortValue: null
Mosaic Operator: First
Default Compression Quality: 75
Default Resampling Method: Bilinear
Max Record Count: null
Max Image Height: 4100
Max Image Width: 15000
Max Download Image Count: null
Max Mosaic Image Count: null
Allow Raster Function: true
Allow Compute TiePoints: false
Supports Statistics: false
Supports Advanced Queries: false
Use StandardizedQueries: true
Raster Type Infos:
Name: Raster Dataset
Description: Supports all ArcGIS Raster Datasets
Help:
Has Raster Attribute Table: false
Edit Fields Info: null
Ownership Based AccessControl For Rasters: null
Child Resources:
Info
Histograms
Key Properties
Legend
MultiDimensionalInfo
rasterFunctionInfos
Supported Operations:
Export Image
Identify
Measure
Compute Histograms
Get Samples
Compute Class Statistics