View In:
ArcGIS JavaScript
ArcGIS.com Map
Google Earth
ArcMap
View Footprint In:
ArcGIS.com Map
Service Description:
Name: GempaDonggala/Demnas_Palu_donggala
Description: GempaDonggala/Demnas_Palu_donggala
Single Fused Map Cache: false
Extent:
XMin: 118.75
YMin: -4
XMax: 120.500000000014
YMax: 1.00000000004
Spatial Reference: 4326
(4326)
Initial Extent:
XMin: 118.75
YMin: -4
XMax: 120.500000000014
YMax: 1.00000000004
Spatial Reference: 4326
(4326)
Full Extent:
XMin: 118.75
YMin: -4
XMax: 120.500000000014
YMax: 1.00000000004
Spatial Reference: 4326
(4326)
Pixel Size X: 7.49850029999999E-5
Pixel Size Y: 7.4985003E-5
Band Count: 1
Pixel Type: F32
RasterFunction Infos: N/A
Mensuration Capabilities: Basic
Has Histograms: true
Has Colormap: false
Has Multi Dimensions : false
Rendering Rule:
Min Scale: 0
Max Scale: 0
Copyright Text:
Service Data Type: esriImageServiceDataTypeGeneric
Min Values: -25.214035034179688
Max Values: 3430.48193359375
Mean Values: 647.5556551097284
Standard Deviation Values: 671.6756302397896
Object ID Field:
Fields:
None
Default Mosaic Method: Center
Allowed Mosaic Methods:
SortField:
SortValue: null
Mosaic Operator: First
Default Compression Quality: 75
Default Resampling Method: Bilinear
Max Record Count: null
Max Image Height: 4100
Max Image Width: 15000
Max Download Image Count: null
Max Mosaic Image Count: null
Allow Raster Function: true
Allow Compute TiePoints: false
Supports Statistics: false
Supports Advanced Queries: false
Use StandardizedQueries: true
Raster Type Infos:
Name: Raster Dataset
Description: Supports all ArcGIS Raster Datasets
Help:
Has Raster Attribute Table: false
Edit Fields Info: null
Ownership Based AccessControl For Rasters: null
Child Resources:
Info
Histograms
Key Properties
Legend
MultiDimensionalInfo
rasterFunctionInfos
Supported Operations:
Export Image
Identify
Measure
Compute Histograms
Get Samples
Compute Class Statistics