View In:
ArcGIS JavaScript
ArcGIS.com Map
Google Earth
ArcMap
View Footprint In:
ArcGIS.com Map
Service Description:
Name: GempaDonggala/Citra_Planet_PaluEQ_28092018
Description: GempaDonggala/Citra_Planet_PaluEQ_28092018
Single Fused Map Cache: false
Extent:
XMin: 817777.6000000001
YMin: 9898868.799999999
XMax: 820282.4
YMax: 9902460.8
Spatial Reference: 32750
(32750)
Initial Extent:
XMin: 817777.6000000001
YMin: 9898868.799999999
XMax: 820282.4
YMax: 9902460.8
Spatial Reference: 32750
(32750)
Full Extent:
XMin: 817777.6000000001
YMin: 9898868.799999999
XMax: 820282.4
YMax: 9902460.8
Spatial Reference: 32750
(32750)
Pixel Size X: 0.7999999999999777
Pixel Size Y: 0.8000000000004148
Band Count: 4
Pixel Type: U8
RasterFunction Infos: N/A
Mensuration Capabilities: Basic
Has Histograms: true
Has Colormap: false
Has Multi Dimensions : false
Rendering Rule:
Min Scale: 0
Max Scale: 0
Copyright Text:
Service Data Type: esriImageServiceDataTypeGeneric
Min Values: 14, 1, 1, 255
Max Values: 255, 255, 255, 255
Mean Values: 100.19939380244001, 92.90132625451012, 85.17647531354814, 255
Standard Deviation Values: 21.74689127199169, 20.370239551129966, 25.53251390553942, NaN
Object ID Field:
Fields:
None
Default Mosaic Method: Center
Allowed Mosaic Methods:
SortField:
SortValue: null
Mosaic Operator: First
Default Compression Quality: 75
Default Resampling Method: Bilinear
Max Record Count: null
Max Image Height: 4100
Max Image Width: 15000
Max Download Image Count: null
Max Mosaic Image Count: null
Allow Raster Function: true
Allow Compute TiePoints: false
Supports Statistics: false
Supports Advanced Queries: false
Use StandardizedQueries: true
Raster Type Infos:
Name: Raster Dataset
Description: Supports all ArcGIS Raster Datasets
Help:
Has Raster Attribute Table: false
Edit Fields Info: null
Ownership Based AccessControl For Rasters: null
Child Resources:
Info
Histograms
Key Properties
Legend
MultiDimensionalInfo
rasterFunctionInfos
Supported Operations:
Export Image
Identify
Measure
Compute Histograms
Get Samples
Compute Class Statistics